BEGIN:VCALENDAR
VERSION:2.0
PRODID:-//VCF Academy Houston//Match Calendar//EN
BEGIN:VEVENT
UID:valencia-match-8@vcfacademy
DTSTAMP:20260419T124424Z
DTSTART:20260502T170000Z
DTEND:20260502T183000Z
SUMMARY:VCF Academy vs CHALLENGE UNITED STXCL EC
LOCATION:BURROUGHS PARK FIELD 7
DESCRIPTION:Map: https://www.google.com/maps/place/Burroughs+Park+Soccer+Field+7/@30.1293445,-95.5815777,17z/data=!4m14!1m7!3m6!1s0x86472de40ba9d145:0x67729a6e03546d2d!2sBurroughs+Park!8m2!3d30.1293446!4d-95.5767068!16s%2Fg%2F11_s59vks!3m5!1s0x86472d73be16ddc1:0x7450b0242832fe30!8m2!3d30.130878!4d-95.5784067!16s%2Fg%2F11kkzmgx0c?entry=ttu&g_ep=EgoyMDI2MDIyNS4wIKXMDSoASAFQAw%3D%3D
END:VEVENT
END:VCALENDAR
